BEGIN:VCALENDAR
PRODID:-//eluceo/ical//2.0/EN
VERSION:2.0
CALSCALE:GREGORIAN
BEGIN:VEVENT
UID:d1b715c3c5f8871a6dfbbcacd43167b0
DTSTAMP:20260420T134529Z
SUMMARY:Social Wellness with Brookdale Montrose
DESCRIPTION:Shaw JCC of Akron\nJCC Calendar\nhttps://shawjcc.org/jcccalenda
 r/social-wellness-with-brookdale-montrose-nov142017\n\nIf you think that h
 aving good health is all about eating\, exercise and medicine – think ag
 ain! We all have a basic need to feel connected to other people. And it tu
 rns out social connections may be at least as important\, if not more as t
 hese other commonly accepted health practices. In this Health and Wellness
  Presentation by Brookdale Montrose\, we will help to understand the healt
 h implications of social contact and recognize the various ways to support
  others and to feel supported. FREE t...
DTSTART;TZID=America/New_York:20171114T140000
DTEND;TZID=America/New_York:20171114T150000
END:VEVENT
END:VCALENDAR
