BEGIN:VCALENDAR
PRODID:-//eluceo/ical//2.0/EN
VERSION:2.0
CALSCALE:GREGORIAN
BEGIN:VEVENT
UID:6a04bb03f00be0b42dfbb7ba029fe257
DTSTAMP:20260423T024101Z
SUMMARY:Spanish for Little Ones
DESCRIPTION:Shaw JCC of Akron\nJCC Calendar\nhttps://shawjcc.org/jcccalenda
 r/spanish-for-little-ones-01182018\n\nChildren will join Senorita Mc Duffe
 e for a weekly Spanish experience. Similar to the last session of Spanish 
 for Little Ones. Songs\, stories\, arts and crafts and more will be provid
 ed for children using basic Spanish words and phrases.
DTSTART;TZID=America/New_York:20180118T161500
DTEND;TZID=America/New_York:20180118T164500
END:VEVENT
END:VCALENDAR
