BEGIN:VCALENDAR
PRODID:-//eluceo/ical//2.0/EN
VERSION:2.0
CALSCALE:GREGORIAN
BEGIN:VEVENT
UID:23539bfcb0dfdc499bc29f7ba37c03d4
DTSTAMP:20260420T103955Z
SUMMARY:Special Evening of Tai Chi and Chinese Culture
DESCRIPTION:Shaw JCC of Akron\nJCC Calendar\nhttps://shawjcc.org/jcccalenda
 r/special-evening-of-tai-chi-and-chinese-culture-258693\n\nOn Wednesday\, 
 February 7\, from 6:30-8:30 Teachers from the Dali Experimental Elementary
  School\, Gangdong\, China will present a special evening of Tai Chi and C
 hinese Culture. \n\nThis free event for adults and is part of The Lippma
 n School's partnership with the Dali School.\nPlease join us at the Shaw 
 JCC Auditorium.\n\nRSVP required to: ccohen@thelippmanschool.org or 330-83
 6-0419.\n\nLearn more about The Lippman School at www.thelippmanschool.org
DTSTART;TZID=America/New_York:20180207T183000
DTEND;TZID=America/New_York:20180207T203000
END:VEVENT
END:VCALENDAR
