BEGIN:VCALENDAR
PRODID:-//eluceo/ical//2.0/EN
VERSION:2.0
CALSCALE:GREGORIAN
BEGIN:VEVENT
UID:60cfc8535292d164649d1100ed846374
DTSTAMP:20260420T062033Z
SUMMARY:Spinning
DESCRIPTION:Shaw JCC of Akron\nJCC Calendar\nhttps://shawjcc.org/jcccalenda
 r/spinning-sun\n\nFREE for J members! An all-terrain ride that will burn 
 calories\, build strength\, and improve fitness. The energetic music motiv
 ates each rider through a variety of speed and resistance challenges. Each
  class will take you on a creatively designed ride to maximize your fitnes
 s potential. (All Levels)
DTSTART;TZID=America/New_York:20170104T060000
DTEND;TZID=America/New_York:20170104T064500
END:VEVENT
END:VCALENDAR
