BEGIN:VCALENDAR
PRODID:-//eluceo/ical//2.0/EN
VERSION:2.0
CALSCALE:GREGORIAN
BEGIN:VEVENT
UID:a8236605698a9abf0dd0ea261bc6f9ac
DTSTAMP:20260419T193531Z
SUMMARY:Father's Day Splash Bash
DESCRIPTION:Shaw JCC of Akron\nJCC Calendar\nhttps://shawjcc.org/jcccalenda
 r/splash-bash-06172018\n\nSplish splash! It’s a summertime bash on Fathe
 r's Day at The J’s outdoor pool. On Sunday\, June 17\, celebrate Father
 ’s Day with Beach Boyz DJ entertainment\, and bring your excitement for 
 outdoor fun and games! FREE for members.
DTSTART;TZID=America/New_York:20180617T130000
DTEND;TZID=America/New_York:20180617T150000
END:VEVENT
END:VCALENDAR
