BEGIN:VCALENDAR
PRODID:-//eluceo/ical//2.0/EN
VERSION:2.0
CALSCALE:GREGORIAN
BEGIN:VEVENT
UID:3c51fa6cddc442162e2f788b0535bb65
DTSTAMP:20260422T091428Z
SUMMARY:Splash Bash
DESCRIPTION:Shaw JCC of Akron\nJCC Calendar\nhttps://shawjcc.org/jcccalenda
 r/splash-bash-08192018\n\nSplish Splash! It’s a Summertime Bash! \n\nLe
 t’s make a splash to celebrate the summer time. Join us at the outdoor p
 ool for one of The J's Splash Bashes! Dance to the music with Beach Boyz D
 J entertainment\, and bring your excitement for outdoor fun and games!\n\n
 Sunday\, June 17\, 1-3 p.m.\nSunday\, July 29\, noon-4 p.m.\nSunday\, Aug.
  19\, 1-3 p.m.\nSunday\, Sept. 2\, 1-3 p.m.
DTSTART;TZID=America/New_York:20180819T130000
DTEND;TZID=America/New_York:20180819T150000
END:VEVENT
END:VCALENDAR
