BEGIN:VCALENDAR
PRODID:-//eluceo/ical//2.0/EN
VERSION:2.0
CALSCALE:GREGORIAN
BEGIN:VEVENT
UID:65c2c34eda5d435931735f2736fdac33
DTSTAMP:20260420T044918Z
SUMMARY:Splash Bash
DESCRIPTION:Shaw JCC of Akron\nJCC Calendar\nhttps://shawjcc.org/jcccalenda
 r/splash-bash-Aug13\n\nActivities: Sidewalk Chalk\, Live Music\, Free Icee
 s\, Cannonball Contest\, Seahorse Races\, prizes and more! \n\nChalk Them
 e: Fun in the Sun\, Music Feature: Tucker & Davis Feat. a Watermelon Relay
  Contest!
DTSTART;TZID=America/New_York:20210813T160000
DTEND;TZID=America/New_York:20210813T190000
END:VEVENT
END:VCALENDAR
