BEGIN:VCALENDAR
PRODID:-//eluceo/ical//2.0/EN
VERSION:2.0
CALSCALE:GREGORIAN
BEGIN:VEVENT
UID:84a87fede06beba476fe77e4ddc7bf42
DTSTAMP:20260420T141822Z
SUMMARY:Splash Bash
DESCRIPTION:Shaw JCC of Akron\nJCC Calendar\nhttps://shawjcc.org/jcccalenda
 r/splash-bashaugust\n\nSplash Bash! Members may bring a friend for FREE. W
 in Giveaways! 
DTSTART;TZID=America/New_York:20190820T180000
DTEND;TZID=America/New_York:20190820T194500
END:VEVENT
END:VCALENDAR
