BEGIN:VCALENDAR
PRODID:-//eluceo/ical//2.0/EN
VERSION:2.0
CALSCALE:GREGORIAN
BEGIN:VEVENT
UID:31f34c89fd6458acfad5f3ae10ee837e
DTSTAMP:20260423T072855Z
SUMMARY:Sport Time
DESCRIPTION:Shaw JCC of Akron\nJCC Calendar\nhttps://shawjcc.org/jcccalenda
 r/sport-time\n\nSport Time\n\nFridays\, March 3-31\, 1-1:45 p.m.\n\nCost: 
 $45 M/$60 G\, 401.027\n\nChildren ages 3-5 years will enjoy learning some 
 skills for these sports volleyball\, kickball and floor hockey. There will
  be some warm up exercises and running plus some game time play.
DTSTART;TZID=America/New_York:20170303T130000
DTEND;TZID=America/New_York:20170303T134500
END:VEVENT
END:VCALENDAR
