BEGIN:VCALENDAR
PRODID:-//eluceo/ical//2.0/EN
VERSION:2.0
CALSCALE:GREGORIAN
BEGIN:VEVENT
UID:d83bee82b81361c2f439c952f7affeac
DTSTAMP:20260422T135547Z
SUMMARY:Spring Games
DESCRIPTION:Shaw JCC of Akron\nJCC Calendar\nhttps://shawjcc.org/jcccalenda
 r/spring-games-03022018\n\nChildren will participate in a variety of speci
 al games throughout the month of March. Your kids will love playing tag\, 
 relay races and obstacle courses with Ms. Janice. 
DTSTART;TZID=America/New_York:20180302T130000
DTEND;TZID=America/New_York:20180302T134500
END:VEVENT
END:VCALENDAR
