BEGIN:VCALENDAR
PRODID:-//eluceo/ical//2.0/EN
VERSION:2.0
CALSCALE:GREGORIAN
BEGIN:VEVENT
UID:14e43596f4dc1ad61579076071553132
DTSTAMP:20260420T095215Z
SUMMARY:STEM Academy
DESCRIPTION:Shaw JCC of Akron\nJCC Calendar\nhttps://shawjcc.org/jcccalenda
 r/stem-academy-june13\n\nAges 3-5\n\n402.706.4\n\nThursdays\, June 13 – 
 Aug. 15 (no class July 4 & 25)\, 1:15-2:15 p.m. \n\nCost: $90 Member/$125 
 Guest\n\nJoin Ms. Lindsay as we explore the jobs of the future in our very
  own STEM Academy. Children will discover all things science\, technology\
 , engineering\, and math. We will be building with different materials\, c
 onducting science experiments\, and participating in math games and activi
 ties. Campers will compile all activities in STEM journals throughout the 
 summer!
DTSTART;TZID=America/New_York:20190613T131500
DTEND;TZID=America/New_York:20190613T141500
END:VEVENT
END:VCALENDAR
