BEGIN:VCALENDAR
PRODID:-//eluceo/ical//2.0/EN
VERSION:2.0
CALSCALE:GREGORIAN
BEGIN:VEVENT
UID:3d611b9a23378b3ac4c9af1ac937989a
DTSTAMP:20260421T065522Z
SUMMARY:Stepping Up to Reading & Language Arts II
DESCRIPTION:Shaw JCC of Akron\nJCC Calendar\nhttps://shawjcc.org/jcccalenda
 r/stepping-up-to-reading-language-arts-ii-june10\n\n501.RLA2\n\nTuesdays &
  Thursdays\, June 11-Aug. 15\, 3:30-4:30 p.m. (no class week of July 1)\n\
 nCost: $120 Member/$140 Guest \n\nChildren entering first through third g
 rades will join our resident reading specialist\, Melanie Francis for game
 s\, activities\, reading comprehension exercises\, phonics drills\, spelli
 ng practice and more. Melanie will make learning fun and help keep childre
 n sharp during the summer months as she prepares individualized lessons ba
 sed on the various abilities of each c...
DTSTART;TZID=America/New_York:20190611T153000
DTEND;TZID=America/New_York:20190611T163000
END:VEVENT
END:VCALENDAR
