BEGIN:VCALENDAR
PRODID:-//eluceo/ical//2.0/EN
VERSION:2.0
CALSCALE:GREGORIAN
BEGIN:VEVENT
UID:d078e5e3572e127a22731254b2cda9c7
DTSTAMP:20260422T045335Z
SUMMARY:Stingrays Swim Meet @ Home
DESCRIPTION:Shaw JCC of Akron\nJCC Calendar\nhttps://shawjcc.org/jcccalenda
 r/stingrays-swim-meet\n\nMonday\, November 28th @ 6:00pm (home)
DTSTART;TZID=America/New_York:20161128T180000
DTEND;TZID=America/New_York:20161128T200000
END:VEVENT
END:VCALENDAR
