BEGIN:VCALENDAR
PRODID:-//eluceo/ical//2.0/EN
VERSION:2.0
CALSCALE:GREGORIAN
BEGIN:VEVENT
UID:6ffdc42afd75c5269e3ca23731accbb0
DTSTAMP:20260425T220511Z
SUMMARY:Stingrays Swim Meet
DESCRIPTION:Shaw JCC of Akron\nJCC Calendar\nhttps://shawjcc.org/jcccalenda
 r/stingrays-swim-meet-01222019\n\nHome meet against Kent Roosevelt.
DTSTART;TZID=America/New_York:20190122T173000
DTEND;TZID=America/New_York:20190122T210000
END:VEVENT
END:VCALENDAR
