BEGIN:VCALENDAR
PRODID:-//eluceo/ical//2.0/EN
VERSION:2.0
CALSCALE:GREGORIAN
BEGIN:VEVENT
UID:21694663f5e360378bffee40d7938d57
DTSTAMP:20260426T034416Z
SUMMARY:Stingrays Swim Meet
DESCRIPTION:Shaw JCC of Akron\nJCC Calendar\nhttps://shawjcc.org/jcccalenda
 r/stingrays-swim-meet-02032018\n\nPiranhas Swim Meet\n\n 
DTSTART;TZID=America/New_York:20180203T093000
DTEND;TZID=America/New_York:20180203T123000
END:VEVENT
END:VCALENDAR
