BEGIN:VCALENDAR
PRODID:-//eluceo/ical//2.0/EN
VERSION:2.0
CALSCALE:GREGORIAN
BEGIN:VEVENT
UID:b5e55e62ef54e545adeff586d2e51a27
DTSTAMP:20260424T151451Z
SUMMARY:Stingrays Swim Meet
DESCRIPTION:Shaw JCC of Akron\nJCC Calendar\nhttps://shawjcc.org/jcccalenda
 r/stingrays-swim-meet-12132018\n\nHome meet against Piranhas.
DTSTART;TZID=America/New_York:20181213T173000
DTEND;TZID=America/New_York:20181213T210000
END:VEVENT
END:VCALENDAR
