BEGIN:VCALENDAR
PRODID:-//eluceo/ical//2.0/EN
VERSION:2.0
CALSCALE:GREGORIAN
BEGIN:VEVENT
UID:3d80dd817f1399cade4f6d7b9ad156b5
DTSTAMP:20260424T213249Z
SUMMARY:Stingrays Swim Team
DESCRIPTION:Shaw JCC of Akron\nJCC Calendar\nhttps://shawjcc.org/jcccalenda
 r/stingrays-swim-team-11092018\n\nDo your kids love the water and enjoy so
 me friendly competition? Then the Stingrays swim team may be a great fit f
 or them! Our year-round swim team provides training and competitive opport
 unities for swimmers of all abilities to reach their individual and team g
 oals. We are dependent on committed swimmers\, family participation\, a de
 dicated board\, and a well-qualified coaching staff. Our team provides an 
 enjoyable environment to build sportsmanship\, character\, skills\, friend
 ships and health. C...
DTSTART;TZID=America/New_York:20181109T163000
DTEND;TZID=America/New_York:20181109T173000
END:VEVENT
END:VCALENDAR
