BEGIN:VCALENDAR
PRODID:-//eluceo/ical//2.0/EN
VERSION:2.0
CALSCALE:GREGORIAN
BEGIN:VEVENT
UID:1471b0cfe55683b358fcc418c0df1240
DTSTAMP:20260421T172329Z
SUMMARY:Stingrays Swim Team
DESCRIPTION:Shaw JCC of Akron\nJCC Calendar\nhttps://shawjcc.org/jcccalenda
 r/stingrays-swim-team-1162018\n\nDo your kids love the water and enjoy som
 e friendly competition? Then the Stingrays swim team may be a great fit fo
 r them! Our year-round swim team provides training and competitive opportu
 nities for swimmers of all abilities to reach their individual and team go
 als. We are dependent on committed swimmers\, family participation\, a ded
 icated board\, and a well-qualified coaching staff. Our team provides an e
 njoyable environment to build sportsmanship\, character\, skills\, friends
 hips and health. C...
DTSTART;TZID=America/New_York:20181106T180000
DTEND;TZID=America/New_York:20181106T193000
END:VEVENT
END:VCALENDAR
