BEGIN:VCALENDAR
PRODID:-//eluceo/ical//2.0/EN
VERSION:2.0
CALSCALE:GREGORIAN
BEGIN:VEVENT
UID:1e579d6e126d6160474cadf363b64f07
DTSTAMP:20260424T201923Z
SUMMARY:Stingrays Swim Team Practice
DESCRIPTION:Shaw JCC of Akron\nJCC Calendar\nhttps://shawjcc.org/jcccalenda
 r/stingrays-swim-team-practice-tues-thurs\n\nSeason runs from October 10 
 to March 11 for 22 weeks of fun learning and building sportsmanship!\n\nM
 embers: $180 ($155 per additional child) Guest: $230 ($205 per additional 
 child)\n\nCall 330-867-7850 to register or email ryan_miller@shawjcc.org f
 or more information! 
DTSTART;TZID=America/New_York:20161010T183000
DTEND;TZID=America/New_York:20161010T200000
END:VEVENT
END:VCALENDAR
