BEGIN:VCALENDAR
PRODID:-//eluceo/ical//2.0/EN
VERSION:2.0
CALSCALE:GREGORIAN
BEGIN:VEVENT
UID:03ef2ff948b4862d3fbbf69fa411b8ff
DTSTAMP:20260420T133126Z
SUMMARY:Story with Ms. Kim
DESCRIPTION:Shaw JCC of Akron\nJCC Calendar\nhttps://shawjcc.org/jcccalenda
 r/story-with-ms-kim\n\nStory with Ms. Kim (ages 2½–5) Tuesdays\, Nov. 1
 -29 (no class Nov. 22) 1-1:45 p.m. Each week children will enjoy a new st
 ory with Ms. Kim along with coordinating activities and a light snack. Cos
 t: $40 M/$45 G. 401.012
DTSTART;TZID=America/New_York:20161101T130000
DTEND;TZID=America/New_York:20161101T134500
END:VEVENT
END:VCALENDAR
