BEGIN:VCALENDAR
PRODID:-//eluceo/ical//2.0/EN
VERSION:2.0
CALSCALE:GREGORIAN
BEGIN:VEVENT
UID:8bd9b386698470babca1dbf4d286fa61
DTSTAMP:20260423T215442Z
SUMMARY:Stress Relief Series - Level 1
DESCRIPTION:Shaw JCC of Akron\nJCC Calendar\nhttps://shawjcc.org/jcccalenda
 r/stress-relief-series-level-1-02112018\n\nStress takes a variety of forms
 \, all taking a toll on the body and mind. This immersive stress relief tr
 aining series led by Kevin Karas will empower participants to take control
  of their stress by practicing mind-body techniques in a supportive and sa
 fe community. Over the course of three weeks\, participants will transform
  their lives together. Maximum participants: 12. \n\n604.102
DTSTART;TZID=America/New_York:20180211T140000
DTEND;TZID=America/New_York:20180211T153000
END:VEVENT
END:VCALENDAR
