BEGIN:VCALENDAR
PRODID:-//eluceo/ical//2.0/EN
VERSION:2.0
CALSCALE:GREGORIAN
BEGIN:VEVENT
UID:7bb97f3d4fc1373117fb41395b31e148
DTSTAMP:20260422T040557Z
SUMMARY:Stress Relief Workshop
DESCRIPTION:Shaw JCC of Akron\nJCC Calendar\nhttps://shawjcc.org/jcccalenda
 r/stress-relief-workshop-nov052017\n\nThe focus of the workshop will intro
 duce the mind-body approach to pain and stress relief. The workshop will i
 nvolve mindful movement\, breathing techniques\, reflection and dialogue a
 round wellness from a holistic health perspective.\n\nCost: $15 per person
  (limit 8 participants)
DTSTART;TZID=America/New_York:20171105T140000
DTEND;TZID=America/New_York:20171105T143000
END:VEVENT
END:VCALENDAR
