BEGIN:VCALENDAR
PRODID:-//eluceo/ical//2.0/EN
VERSION:2.0
CALSCALE:GREGORIAN
BEGIN:VEVENT
UID:138fc6310c4b603abca178ff8ac96c19
DTSTAMP:20260420T044208Z
SUMMARY:Stroke Clinics - Freestyle
DESCRIPTION:Shaw JCC of Akron\nJCC Calendar\nhttps://shawjcc.org/jcccalenda
 r/stroke-clinics-april9\n\nImprove your swim skills with stroke clinics af
 ter completing Red Cross levels 4 & 5 or enhance your technique for the up
 coming swim team season. One of our swim team coaches will work with video
 s during the first half of each of the sessions and actual drills during t
 he second half of each of the sessions. You can register for all or pick a
 nd choose them.\n\nCost: $17 Member/ $25 Guest for each stroke clinic or\n
 \n$85 Member/ $125 Guest for all five \n\nFREESTYLE\n\n603.801\n\nApr. 9 T
 uesday...
DTSTART;TZID=America/New_York:20190409T173000
DTEND;TZID=America/New_York:20190409T190000
END:VEVENT
END:VCALENDAR
