BEGIN:VCALENDAR
PRODID:-//eluceo/ical//2.0/EN
VERSION:2.0
CALSCALE:GREGORIAN
BEGIN:VEVENT
UID:31fa493e57ac1f5309d0623915dd11f8
DTSTAMP:20260421T123516Z
SUMMARY:Stroke Clinics- Freestyle
DESCRIPTION:Shaw JCC of Akron\nJCC Calendar\nhttps://shawjcc.org/jcccalenda
 r/stroke-clinics-freestyle-325684\n\nImprove your swim skills with stroke 
 clinics after completing Red Cross levels 4 & 5 or enhance your technique 
 for the upcoming swim team season. One of our swim team coaches will work 
 with both videos during the first half of each of the sessions and actual 
 drills during the second half of each of the sessions. You can register fo
 r all or pick and choose them.\n\nCost: $30 (Member and Guest)\n\nTuesday 
 & Thursday\, 5:30-6:30 p.m.
DTSTART;TZID=America/New_York:20201027T173000
DTEND;TZID=America/New_York:20201027T183000
END:VEVENT
END:VCALENDAR
