BEGIN:VCALENDAR
PRODID:-//eluceo/ical//2.0/EN
VERSION:2.0
CALSCALE:GREGORIAN
BEGIN:VEVENT
UID:524899e9f7c5d41cf1597abbb70a86cb
DTSTAMP:20260420T220607Z
SUMMARY:Summer Camp - Adventures with Gerald and Piggie
DESCRIPTION:Shaw JCC of Akron\nJCC Calendar\nhttps://shawjcc.org/jcccalenda
 r/summer-camp-adventures-with-gerald-and-piggie-june10\n\nADVENTURES WITH 
 GERALD & PIGGIE\n\nAges 3-5\n\nMonday-Friday\, June 10-14\, 9 a.m.-noon \n
 \nCost: $85 (Children currently enrolled in the ECE will receive 50% off) 
 \n\nThis week\, the Mo Willems series of Gerald and Piggie will come to li
 fe and come to action! Children will enjoy a different story each day with
  “snack-tivities”\, games and fun social-building skills along the way
 . This camp will also help promote early language and literacy skills thro
 ugh creative storytelling and writing opp...
DTSTART;TZID=America/New_York:20190610T090000
DTEND;TZID=America/New_York:20190610T120000
END:VEVENT
END:VCALENDAR
