BEGIN:VCALENDAR
PRODID:-//eluceo/ical//2.0/EN
VERSION:2.0
CALSCALE:GREGORIAN
BEGIN:VEVENT
UID:9df3d9352edf306172e835c13fe7f3e8
DTSTAMP:20260421T221155Z
SUMMARY:Summer Camp - Mad Scientists!
DESCRIPTION:Shaw JCC of Akron\nJCC Calendar\nhttps://shawjcc.org/jcccalenda
 r/summer-camp-mad-scientists-july29\n\nAges 3-5\n\nMonday-Friday\, July 29
 -Aug. 2\, 9 a.m.-noon \n\nCost: $85 (Children currently enrolled in the EC
 E will receive 50% off) \n\nThis week\, we are calling all mad scientists 
 to explore and experiment with a variety of materials for expanding creati
 ve thought processes\, manipulation of recycled materials\, and gross moto
 r games. Each day we will have a different hands-on experiment that will a
 llow your child’s brain to continue making healthy brain connections and
  developing new skills....
DTSTART;TZID=America/New_York:20190729T090000
DTEND;TZID=America/New_York:20190729T120000
END:VEVENT
END:VCALENDAR
