BEGIN:VCALENDAR
PRODID:-//eluceo/ical//2.0/EN
VERSION:2.0
CALSCALE:GREGORIAN
BEGIN:VEVENT
UID:d78f5bcdbdaaecfe3b0ceda4e72592ed
DTSTAMP:20260422T171354Z
SUMMARY:Summer Camp - Playdough Party!
DESCRIPTION:Shaw JCC of Akron\nJCC Calendar\nhttps://shawjcc.org/jcccalenda
 r/summer-camp-playdough-party-july8\n\nAges 3-5\n\nMonday-Friday\, July 8-
 12\, 9 a.m.-noon \n\nCost: $85 (Children currently enrolled in the ECE wil
 l receive 50% off) \n\nThis week’s camp is all about Playdough! Every da
 y kiddos will have a different story to base our playdough explorations ar
 ound. Campers will be engaged in a variety of cooking experiences that hel
 p promote numerous math and science skills. Playdough’s versatility will
  also allow your children to expand their imaginative play and fine motor 
 skills.
DTSTART;TZID=America/New_York:20190708T090000
DTEND;TZID=America/New_York:20190708T120000
END:VEVENT
END:VCALENDAR
