BEGIN:VCALENDAR
PRODID:-//eluceo/ical//2.0/EN
VERSION:2.0
CALSCALE:GREGORIAN
BEGIN:VEVENT
UID:018a73310ab20df57a3a64b4bb00ad09
DTSTAMP:20260421T154056Z
SUMMARY:Mitzvah Mondays
DESCRIPTION:Shaw JCC of Akron\nJCC Calendar\nhttps://shawjcc.org/jcccalenda
 r/summer-enrichment-classes-with-ms-lindsay-june10\n\nMITZVAH MONDAYS\n\nA
 ges 3-5\n\n402.706.1\n\nMondays\, June 10 – Aug. 12 (no class July 1 or 
 July 22)\, 1:15-2:15 p.m. \n\nCost: $90 Member/$125 Guest \n\nMondays are
  all about mitzvahs! Together\, we will spend the summer learning about wa
 ys to be kind friends and do for others. It’s never too early to teach o
 ur children about volunteering and giving to those less fortunate. Ms. Lin
 dsay will select some local organizations to donate to and create things f
 or throughout the summer! Our summer...
DTSTART;TZID=America/New_York:20190610T131500
DTEND;TZID=America/New_York:20190610T141500
END:VEVENT
END:VCALENDAR
