BEGIN:VCALENDAR
PRODID:-//eluceo/ical//2.0/EN
VERSION:2.0
CALSCALE:GREGORIAN
BEGIN:VEVENT
UID:968f5dcfa1c531f47be6590e2269f3b8
DTSTAMP:20260421T212541Z
SUMMARY:Sunday Spring Sports With Coach Adam Fox
DESCRIPTION:Shaw JCC of Akron\nJCC Calendar\nhttps://shawjcc.org/jcccalenda
 r/sunday-spring-sports-with-coach-adam-fox-april28\n\nAges 5-10\n\n200.SSS
 \n\nSundays\, Apr. 28 and May 12\, 19\, & 26\, 2-3 p.m. \n\nCost: $35 Mem
 ber/$50 Guest \n\nWant your child to have fun playing sports before the s
 ummer break? Coach Adam Fox will facilitate games in four sports: basketba
 ll\, soccer\, football\, and kickball. This is also a great class to prepa
 re for all the games your child may play during summer Camp JCC.
DTSTART;TZID=America/New_York:20190428T140000
DTEND;TZID=America/New_York:20190428T150000
END:VEVENT
END:VCALENDAR
