BEGIN:VCALENDAR
PRODID:-//eluceo/ical//2.0/EN
VERSION:2.0
CALSCALE:GREGORIAN
BEGIN:VEVENT
UID:1cc1a07dd166ebcc295104bff2941b83
DTSTAMP:20260422T054655Z
SUMMARY:Sunrise Circuit
DESCRIPTION:Shaw JCC of Akron\nJCC Calendar\nhttps://shawjcc.org/jcccalenda
 r/sunrise-circuit\n\nThis a high-intensity class where we will be exercisi
 ng the entire body. Each class will have a number of unique functional mov
 ements that combine different muscle groups to give you the best possible 
 workout to build strength and endurance. All fitness levels are more than 
 welcome. \n\nCost: $90 M/ $150 G (12 Sessions)\n\n604.018\n \n\n 
DTSTART;TZID=America/New_York:20170808T070000
DTEND;TZID=America/New_York:20170808T074500
END:VEVENT
END:VCALENDAR
