BEGIN:VCALENDAR
PRODID:-//eluceo/ical//2.0/EN
VERSION:2.0
CALSCALE:GREGORIAN
BEGIN:VEVENT
UID:1645cd701dd0db5b44c943d60b2fe9e1
DTSTAMP:20260421T224157Z
SUMMARY:Survive And Thrive Series Session
DESCRIPTION:Shaw JCC of Akron\nJCC Calendar\nhttps://shawjcc.org/jcccalenda
 r/survive-and-thrive-series-session-1560865872-314452\n\nThe objective of 
 this series is to provide practical\, inspirational\, and Jewish spiritual
  support to parents who feel the long days (but short years) of parenthood
 . 
DTSTART;TZID=America/New_York:20191017T173000
DTEND;TZID=America/New_York:20191017T190000
END:VEVENT
END:VCALENDAR
