BEGIN:VCALENDAR
PRODID:-//eluceo/ical//2.0/EN
VERSION:2.0
CALSCALE:GREGORIAN
BEGIN:VEVENT
UID:f40a7508f5c09fb2424070fb2e130d25
DTSTAMP:20260421T040023Z
SUMMARY:Suzuki Early Childhood Education & Violin Enrichment
DESCRIPTION:Shaw JCC of Akron\nJCC Calendar\nhttps://shawjcc.org/jcccalenda
 r/suzuki-early-childhood-education-violin-enrichment4013-315744\n\nSuzuki 
 ECE classes are an extension of the internationally known Suzuki method. I
 n this program\, a group of mixed age children meet weekly to build concep
 ts and skills laid out in the Suzuki ECE repertoire while interacting with
  one another\, their parents\, and the teachers. The parent\, who is the c
 hild’s first and most important teacher\, plays a central role in all ac
 tivities. Simply put\, our program aims to build on the child’s natural 
 delight in learning and lay the foundation for futur...
DTSTART;TZID=America/New_York:20190910T172000
DTEND;TZID=America/New_York:20190910T180000
END:VEVENT
END:VCALENDAR
