BEGIN:VCALENDAR
PRODID:-//eluceo/ical//2.0/EN
VERSION:2.0
CALSCALE:GREGORIAN
BEGIN:VEVENT
UID:da626e6315fda486b2c0e61800a4c66d
DTSTAMP:20260422T060129Z
SUMMARY:Swim Clinic - Freestyle
DESCRIPTION:Shaw JCC of Akron\nJCC Calendar\nhttps://shawjcc.org/jcccalenda
 r/swim-clinic-freestyle-04102018\n\nThis is a terrific way to improve your
  swimming skills after Red Cross levels 4 & 5 or enhance your technique fo
 r the upcoming swim team season. One of our swim team coaches will work wi
 th both videos during the first half of the session and actual drills duri
 ng the second half of the session. \n\n603.885
DTSTART;TZID=America/New_York:20180410T173000
DTEND;TZID=America/New_York:20180410T190000
END:VEVENT
END:VCALENDAR
