BEGIN:VCALENDAR
PRODID:-//eluceo/ical//2.0/EN
VERSION:2.0
CALSCALE:GREGORIAN
BEGIN:VEVENT
UID:a4c2101e075bbb198464ef11b6e5d90d
DTSTAMP:20260421T134752Z
SUMMARY:Swim Clinic - Freestyle
DESCRIPTION:Shaw JCC of Akron\nJCC Calendar\nhttps://shawjcc.org/jcccalenda
 r/swim-clinic-freestyle-10092018\n\nThis is a terrific way to improve your
  swimming skills after Red Cross levels 4 & 5 or enhance your technique fo
 r the upcoming swim team season. One of our swim team coaches will work wi
 th both videos during the first half of the session and actual drills duri
 ng the second half of the session.\n\nAges 6-18 \n603.801
DTSTART;TZID=America/New_York:20181009T173000
DTEND;TZID=America/New_York:20181009T190000
END:VEVENT
END:VCALENDAR
