BEGIN:VCALENDAR
PRODID:-//eluceo/ical//2.0/EN
VERSION:2.0
CALSCALE:GREGORIAN
BEGIN:VEVENT
UID:d2c3e6b20d2154e2c44904aa65e69827
DTSTAMP:20260422T152245Z
SUMMARY:Swim Clinic - Freestyle
DESCRIPTION:Shaw JCC of Akron\nJCC Calendar\nhttps://shawjcc.org/jcccalenda
 r/swim-clinic-freestyle7656479\n\nThis is a terrific way to improve your s
 wimming skills after Red Cross levels 4 & 5 or enhance your technique for 
 the upcoming swim team season. One of our swim team coaches will work with
  both videos during the first half of the session and actual drills duri
 ng the second half of the session.\n\nPricing per clinic is $15 M/ $25 G
DTSTART;TZID=America/New_York:20171003T173000
DTEND;TZID=America/New_York:20171003T190000
END:VEVENT
END:VCALENDAR
