BEGIN:VCALENDAR
PRODID:-//eluceo/ical//2.0/EN
VERSION:2.0
CALSCALE:GREGORIAN
BEGIN:VEVENT
UID:b7a29683abef2408c11c037f5d88bd25
DTSTAMP:20260422T232332Z
SUMMARY:Swim Clinic - Starts & Turns
DESCRIPTION:Shaw JCC of Akron\nJCC Calendar\nhttps://shawjcc.org/jcccalenda
 r/swim-clinic-starts-turns315648\n\nThis is a terrific way to improve your
  swimming skills after Red Cross levels 4 & 5 or enhance your technique fo
 r the upcoming swim team season. One of our swim team coaches will work wi
 th both videos during the first half of the session and actual drills dur
 ing the second half of the session. \n\nPricing per clinic is $15 M/ $25 
 G
DTSTART;TZID=America/New_York:20171017T173000
DTEND;TZID=America/New_York:20171017T190000
END:VEVENT
END:VCALENDAR
