BEGIN:VCALENDAR
PRODID:-//eluceo/ical//2.0/EN
VERSION:2.0
CALSCALE:GREGORIAN
BEGIN:VEVENT
UID:835c92fcee3f2d5353426b67b68f2203
DTSTAMP:20260420T150417Z
SUMMARY:Table Tennis Open House
DESCRIPTION:Shaw JCC of Akron\nJCC Calendar\nhttps://shawjcc.org/jcccalenda
 r/table-tennis-open-house\n\nOpen House with the Samson Dubina Table Tenni
 s Academy \n\nFREE for everyone!\n\n$1000 in FREE stuff\n\nFREE food\n\nF
 REE shirts\n\nFREE prizes\n\nCash prizes for fun competitions
DTSTART;TZID=America/New_York:20170119T180000
DTEND;TZID=America/New_York:20170119T203000
END:VEVENT
END:VCALENDAR
