BEGIN:VCALENDAR
PRODID:-//eluceo/ical//2.0/EN
VERSION:2.0
CALSCALE:GREGORIAN
BEGIN:VEVENT
UID:d7cf85cc90c6bb9ba84bc14d1ef9c771
DTSTAMP:20260424T034307Z
SUMMARY:Tai Chi
DESCRIPTION:Shaw JCC of Akron\nJCC Calendar\nhttps://shawjcc.org/jcccalenda
 r/tai-chi-wed\n\nNow offered twice a week! Tuesdays 9-10 a.m. & Wednesdays
  11 a.m.-12 p.m.\n1X/week monthly pass: $45 Members/$55 Guests\n2x/week mo
 nthly pass: $75 Members/$80 Guests\n\nTai Chi Chuan is an ancient Chinese 
 martial art originally created as a fighting art. This form of exercise ha
 s evolved and branched off into a series of gentle movements led by the br
 eath and with great focus. This mindfulness in movement can alleviate stre
 ss and promote serenity. According to research\, Tai Chi supports the b...
DTSTART;TZID=America/New_York:20190703T110000
DTEND;TZID=America/New_York:20190703T120000
END:VEVENT
END:VCALENDAR
