BEGIN:VCALENDAR
PRODID:-//eluceo/ical//2.0/EN
VERSION:2.0
CALSCALE:GREGORIAN
BEGIN:VEVENT
UID:5d0ec40af7d29857dd8619b63c788738
DTSTAMP:20260425T112133Z
SUMMARY:Teen Night at the Outdoor Pool
DESCRIPTION:Shaw JCC of Akron\nJCC Calendar\nhttps://shawjcc.org/jcccalenda
 r/teen-night-at-the-outdoor-pool\n\nThursday\, July 6\, 7-9 p.m.\nCost: $3
  per person\nFun and games for teens. Pool closes at 6:45 p.m. for members
 .
DTSTART;TZID=America/New_York:20170706T190000
DTEND;TZID=America/New_York:20170706T210000
END:VEVENT
END:VCALENDAR
