BEGIN:VCALENDAR
PRODID:-//eluceo/ical//2.0/EN
VERSION:2.0
CALSCALE:GREGORIAN
BEGIN:VEVENT
UID:633dae138186e3dd000bf30e90745aa1
DTSTAMP:20260419T122317Z
SUMMARY:The Philosophy of Fit
DESCRIPTION:Shaw JCC of Akron\nJCC Calendar\nhttps://shawjcc.org/jcccalenda
 r/the-philosophy-of-fit-333089\n\nJoin Second Sole Akron at the JCC\n\nSec
 ond Sole Akron has come to be one of the most respected run specialty stor
 es in the country. Their philosophy represents how Second Sole Akron condu
 cts business. A focus on fit encompasses everything Second Sole Does! The 
 FIT philosophy is for everyone… from a brand new walker\, to the gym ent
 husiast\, to an elite runner!\n\nPlease join us in Area Room 1\n\n(You cou
 ld be chosen as a ‘fitting’ model!)\n\nSign up at the Fitness Desk is 
 recommended but...
DTSTART;TZID=America/New_York:20191114T170000
DTEND;TZID=America/New_York:20191114T183000
END:VEVENT
END:VCALENDAR
