BEGIN:VCALENDAR
PRODID:-//eluceo/ical//2.0/EN
VERSION:2.0
CALSCALE:GREGORIAN
BEGIN:VEVENT
UID:ceb9383517dbd0b49bbc9c2eaca748a5
DTSTAMP:20260420T151020Z
SUMMARY:The Power of Posture
DESCRIPTION:Shaw JCC of Akron\nJCC Calendar\nhttps://shawjcc.org/jcccalenda
 r/the-power-of-posture\n\nThe Power of Posture Wednesday\, Jan. 10 1:30 p.
 m. Understand why posture is so important to us as we age. Sarah Kapp\, PT
 \, CIDN\, CKTP will teach us techniques to correct posture and continue to
  be active. Please RSVP to Rachel Williams at 330-835-0027. Free and open 
 to the public. Co-sponsored with Lily Home Services.
DTSTART;TZID=America/New_York:20180110T133000
DTEND;TZID=America/New_York:20180110T153000
END:VEVENT
END:VCALENDAR
