BEGIN:VCALENDAR
PRODID:-//eluceo/ical//2.0/EN
VERSION:2.0
CALSCALE:GREGORIAN
BEGIN:VEVENT
UID:2e917e159f10ce1197c6041ec9949f0e
DTSTAMP:20260423T060957Z
SUMMARY:Thursday Ping Pong League
DESCRIPTION:Shaw JCC of Akron\nJCC Calendar\nhttps://shawjcc.org/jcccalenda
 r/thursday-ping-pong-league\n\nJoin the Thursday ping pong league\, 6-9 p.
 m.\, where the entire family can enjoy friendly matches\, meet new friends
 \, win weekly prizes and become eligible for the $500 League Finals Night!
  Cost: $10 M/$12 G. Contact Coach Samson Dubina at 330-949-9230 or tt@Sams
 onDubina.com. Register at www. OhioPingPong.com. 
DTSTART;TZID=America/New_York:20190214T000000
DTEND;TZID=America/New_York:20190214T235959
END:VEVENT
END:VCALENDAR
