BEGIN:VCALENDAR
PRODID:-//eluceo/ical//2.0/EN
VERSION:2.0
CALSCALE:GREGORIAN
BEGIN:VEVENT
UID:4cc8a7344ba5775a7730022224ca2daa
DTSTAMP:20260424T084825Z
SUMMARY:TNBA Ohio Skills Training Basketball Camp
DESCRIPTION:Shaw JCC of Akron\nJCC Calendar\nhttps://shawjcc.org/jcccalenda
 r/tnba-ohio-skills-training\n\nGrades 5-8\n\nSundays Jan. 15-Feb. 19 4-5 p
 .m.\n\nThis skills training camp will focus on helping the players increas
 e their skill level and confidence when they step out on the court. We wil
 l focus on point moves and scoring moves from the perimeter. Shooting off 
 the move and off screens will be covered as well as one-on-one moves.\n\nR
 egister online at tnbabasketball.com/tnbaohio. Cost: $65 M/$80 G
DTSTART;TZID=America/New_York:20170115T160000
DTEND;TZID=America/New_York:20170115T170000
END:VEVENT
END:VCALENDAR
