BEGIN:VCALENDAR
PRODID:-//eluceo/ical//2.0/EN
VERSION:2.0
CALSCALE:GREGORIAN
BEGIN:VEVENT
UID:8de05b8195a805a46832db62cd152eac
DTSTAMP:20260422T132305Z
SUMMARY:Tone and Tighten (TNT)
DESCRIPTION:Shaw JCC of Akron\nJCC Calendar\nhttps://shawjcc.org/jcccalenda
 r/tone-and-tighten-tnt-sun\n\nFREE for J members! This class is a challen
 ge for the muscles. Come work your major muscle groups the arms\, back\, c
 hest\, legs\, hips\, thighs\, abdominals and buttocks. This class utilizes
  a variety of equipment. Come and sculpt your body. (All Levels)
DTSTART;TZID=America/New_York:20161204T093000
DTEND;TZID=America/New_York:20161204T103000
END:VEVENT
END:VCALENDAR
