BEGIN:VCALENDAR
PRODID:-//eluceo/ical//2.0/EN
VERSION:2.0
CALSCALE:GREGORIAN
BEGIN:VEVENT
UID:22ab70b76a2b6556269c4cbd5c0f0487
DTSTAMP:20260420T120529Z
SUMMARY:Tone and Tighten (TNT)
DESCRIPTION:Shaw JCC of Akron\nJCC Calendar\nhttps://shawjcc.org/jcccalenda
 r/tone-and-tighten-tnt-tues-thurs\n\nFREE for J members! This class is a 
 challenge for the muscles. Come work your major muscle groups the arms\, b
 ack\, chest\, legs\, hips\, thighs\, abdominals and buttocks. This class u
 tilizes a variety of equipment. Come and sculpt your body. (All Levels)
DTSTART;TZID=America/New_York:20161129T173000
DTEND;TZID=America/New_York:20161129T183000
END:VEVENT
END:VCALENDAR
