BEGIN:VCALENDAR
PRODID:-//eluceo/ical//2.0/EN
VERSION:2.0
CALSCALE:GREGORIAN
BEGIN:VEVENT
UID:c1023eba822524781da97cbf5625a2c3
DTSTAMP:20260422T054139Z
SUMMARY:TurboKick
DESCRIPTION:Shaw JCC of Akron\nJCC Calendar\nhttps://shawjcc.org/jcccalenda
 r/turbokick-tues-thurs\n\nFREE for J members! Do you want to sweat? Durin
 g this class \,you will gain endurance\, flexibility & control while focus
 ing on the techniques of kicks and punches. Burn calories while conditioni
 ng the muscles. All Levels
DTSTART;TZID=America/New_York:20161129T103000
DTEND;TZID=America/New_York:20161129T111500
END:VEVENT
END:VCALENDAR
