BEGIN:VCALENDAR
PRODID:-//eluceo/ical//2.0/EN
VERSION:2.0
CALSCALE:GREGORIAN
BEGIN:VEVENT
UID:97e289edec6178e66d1a874bdfacfe00
DTSTAMP:20260420T085919Z
SUMMARY:Tzofim Traveling Caravan
DESCRIPTION:Shaw JCC of Akron\nJCC Calendar\nhttps://shawjcc.org/jcccalenda
 r/tzofim-travelling-caravan-1523297307-267159\n\nOpen to the Public\, The 
 Tzofim Travelling Caravan are teenagers from Israel who bring a lively mus
 ic\, dance and show  for all to enjoy.  Open and Free to the public. 
DTSTART;TZID=America/New_York:20180802T180000
DTEND;TZID=America/New_York:20180802T200000
END:VEVENT
END:VCALENDAR
