BEGIN:VCALENDAR
PRODID:-//eluceo/ical//2.0/EN
VERSION:2.0
CALSCALE:GREGORIAN
BEGIN:VEVENT
UID:609c6926bcbc3fd085aa86a790404fc8
DTSTAMP:20260425T160532Z
SUMMARY:United Health Care Q & A
DESCRIPTION:Shaw JCC of Akron\nJCC Calendar\nhttps://shawjcc.org/jcccalenda
 r/united-health-care-q-a\n\nMichael Poling\, a UnitedHealthCare advisor\, 
 will be on hand in the JCC lobby to answer any of your Medicare questions\
 , if you are covered by UnitedHealthCare or another provider.
DTSTART;TZID=America/New_York:20200108T110000
DTEND;TZID=America/New_York:20200108T120000
END:VEVENT
END:VCALENDAR
