BEGIN:VCALENDAR
PRODID:-//eluceo/ical//2.0/EN
VERSION:2.0
CALSCALE:GREGORIAN
BEGIN:VEVENT
UID:b77c576bcc9312816952bf6b380f5c90
DTSTAMP:20260422T043656Z
SUMMARY:UnitedHealthcare Education Series
DESCRIPTION:Shaw JCC of Akron\nJCC Calendar\nhttps://shawjcc.org/jcccalenda
 r/unitedhealthcare-education-seriesdec\n\nMichael Poling\, a UnitedHealth 
 Advisor will tell us everything we NEED to know about Medicare. Michael wi
 ll be available after each session to answer any questions. All meetings a
 re at 11 a.m. \n\nWednesday\, Dec. 4: Question and Answer Session
DTSTART;TZID=America/New_York:20191204T110000
DTEND;TZID=America/New_York:20191204T120000
END:VEVENT
END:VCALENDAR
