BEGIN:VCALENDAR
PRODID:-//eluceo/ical//2.0/EN
VERSION:2.0
CALSCALE:GREGORIAN
BEGIN:VEVENT
UID:1c376f4104a9ce6c51df3cc972b59946
DTSTAMP:20260420T220627Z
SUMMARY:UnitedHealthcare Education Series
DESCRIPTION:Shaw JCC of Akron\nJCC Calendar\nhttps://shawjcc.org/jcccalenda
 r/unitedhealthcare-education-seriesoct\n\nMichael Poling\, a UnitedHealth 
 Advisor will tell us everything we NEED to know about Medicare. Michael wi
 ll be available after each session to answer any questions. All meetings a
 re at 11 a.m\n\nWednesday\, Oct. 23: Medicare Advantage Plan 1 HMO\n\nWedn
 esday\, Oct. 30: Medicare Med Advantage PPO Plan\n\nWednesday\, Dec. 4: Qu
 estion and Answer Session\n\n 
DTSTART;TZID=America/New_York:20191023T110000
DTEND;TZID=America/New_York:20191023T120000
END:VEVENT
END:VCALENDAR
